BEGIN:VCALENDAR
PRODID:-//github.com/rianjs/ical.net//NONSGML ical.net 4.0//EN
VERSION:2.0
BEGIN:VEVENT
DESCRIPTION:Euer ADFC-TourGuide Zertifikat läuft bald aus? Bringt euch mit
  frischem Wissen auf den neuesten Stand. Hier könnt ihr euer TourGuide-Ze
 rtifikat um weitere 3 Jahre verlängern.\nhttps://touren-termine.adfc.de/r
 adveranstaltung/169373-adfc-tourguiderefresh-basis
DTEND:20251129T160000Z
DTSTAMP:20260424T173127Z
DTSTART:20251129T090000Z
LOCATION:Gelbe Villa\, Wilhelmshöhe 10\, 10965 Berlin
SEQUENCE:0
SUMMARY:ADFC TourGuide-Refresh - Basis
UID:762ad23b-4866-4696-9920-93582eeb2a00
URL:https://touren-termine.adfc.de/radveranstaltung/169373-adfc-tourguider
 efresh-basis
END:VEVENT
END:VCALENDAR
