BEGIN:VCALENDAR
PRODID:-//github.com/rianjs/ical.net//NONSGML ical.net 4.0//EN
VERSION:2.0
BEGIN:VEVENT
DESCRIPTION:Zum Ausklang der Fahrradsaison radeln wir nach Visselhövede un
 d besichtigen den Ökohof in Riepholm.\nhttps://touren-termine.adfc.de/rad
 veranstaltung/106795-jahresabschlussfahrt
DTEND:20231003T160000Z
DTSTAMP:20260423T201108Z
DTSTART:20231003T080000Z
LOCATION:Am Pferdemarkt\, 27356 Rotenburg
SEQUENCE:0
SUMMARY:Jahresabschlussfahrt
UID:cb64d294-8ad0-45fc-9ee2-4f4e5b1c2323
URL:https://touren-termine.adfc.de/radveranstaltung/106795-jahresabschluss
 fahrt
END:VEVENT
END:VCALENDAR
