BEGIN:VCALENDAR
PRODID:-//github.com/rianjs/ical.net//NONSGML ical.net 4.0//EN
VERSION:2.0
BEGIN:VEVENT
DESCRIPTION:Treffen der OpenStreetMap-Community aus Essen & Umgebung.\n\n\
 nDiese Treffen sollen dazu dienen\, die Materie OSM näher zubringen\, als
  auch diverse OSM bezogene Sachen zu besprechen.\nhttps://touren-termine.
 adfc.de/radveranstaltung/190044-essener-openstreetmaptreffen-osm
DTEND:20260618T190000Z
DTSTAMP:20260421T115514Z
DTSTART:20260618T170000Z
LOCATION:Essen (Innenstadt)\, ADFC Essen Geschäftsstelle\, Rottstraße 5\, 
 45127 Essen
SEQUENCE:0
SUMMARY:Essener OpenStreetMap-Treffen (OSM)
UID:a0a68227-1e05-4b87-87fc-b4c9d736b2dc
URL:https://touren-termine.adfc.de/radveranstaltung/190044-essener-openstr
 eetmaptreffen-osm
END:VEVENT
END:VCALENDAR
