BEGIN:VCALENDAR
PRODID:-//github.com/rianjs/ical.net//NONSGML ical.net 4.0//EN
VERSION:2.0
BEGIN:VEVENT
DESCRIPTION:Vom S Bahnhof Treptower Park fahren wir entlang der Spree nach
  Oberschöneweide.\nhttps://touren-termine.adfc.de/radveranstaltung/197474
 -radtourberliner-industriegeschichte-erleben
DTEND:20260704T130000Z
DTSTAMP:20260424T143009Z
DTSTART:20260704T090000Z
LOCATION:S-Bhf. Treptower Park\, Parkseite am Tunnelausgang\, 12435 Berlin
SEQUENCE:0
SUMMARY:Radtour-Berliner Industriegeschichte erleben
UID:5cbcacfd-f141-4154-96d1-1f1b5faf4f2a
URL:https://touren-termine.adfc.de/radveranstaltung/197474-radtourberliner
 -industriegeschichte-erleben
END:VEVENT
END:VCALENDAR
