BEGIN:VCALENDAR
PRODID:-//github.com/rianjs/ical.net//NONSGML ical.net 4.0//EN
VERSION:2.0
BEGIN:VEVENT
DESCRIPTION:Bis zur Umstellung der Sommerzeit\, Ende Oktober\, starten wir
  jeden Dienstag um 18 Uhr vom Hildegardplatz in Kempten zu einer kleinen 
 Feierabendrunde. Wir freuen uns über alte und neue Teilnehmer.\nhttps://t
 ouren-termine.adfc.de/radveranstaltung/98211-feierabendradeln
DTEND:20230711T180000Z
DTSTAMP:20260424T144844Z
DTSTART:20230711T160000Z
LOCATION:Hildegardplatz\, 87435 Kempten (Allgäu)
SEQUENCE:0
SUMMARY:Feierabendradeln
UID:ea99fa96-1105-49ae-9c63-64f01501f376
URL:https://touren-termine.adfc.de/radveranstaltung/98211-feierabendradeln
END:VEVENT
END:VCALENDAR
