BEGIN:VCALENDAR
PRODID:-//github.com/rianjs/ical.net//NONSGML ical.net 4.0//EN
VERSION:2.0
BEGIN:VEVENT
DESCRIPTION:Dieses Angebot passt zu allen\, die nach einem Arbeitstag sich
  nochmal auslüften wollen\, die Lungen mit frischer Luft tanken und/oder 
 einfach ein bis zwei Stunden Bewegung benötigen.\nhttps://touren-termine.
 adfc.de/radveranstaltung/157352-alle-wege-fuhren-um-katzwang-feierabendto
 ur
DTEND:20250520T183000Z
DTSTAMP:20260425T171345Z
DTSTART:20250520T161500Z
LOCATION:Rosine-Speicher-Straße (Wendehammer) Katzwang\, 90455 Nürnberg
SEQUENCE:0
SUMMARY:Alle Wege führen um Katzwang - Feierabendtour
UID:bceb65a1-5839-4d3d-85c7-9e37b0e10d4f
URL:https://touren-termine.adfc.de/radveranstaltung/157352-alle-wege-fuhre
 n-um-katzwang-feierabendtour
END:VEVENT
END:VCALENDAR
