BEGIN:VCALENDAR
PRODID:-//github.com/rianjs/ical.net//NONSGML ical.net 4.0//EN
VERSION:2.0
BEGIN:VEVENT
DESCRIPTION:Entspannte Fahrradtour mit Baden von Lehnitz über Liebenwalde 
 zurück nach Oranienburg.\nhttps://touren-termine.adfc.de/radveranstaltung
 /136446-3seentour-oderhavel-tour
DTEND:20240823T143000Z
DTSTAMP:20260424T143506Z
DTSTART:20240823T081500Z
LOCATION:S-Bhf. Lehnitz\, 16515 Oranienburg
SEQUENCE:0
SUMMARY:3-Seen-Tour: Oder-Havel Tour
UID:e02fb872-f456-4f4a-b8a4-e20cee21b576
URL:https://touren-termine.adfc.de/radveranstaltung/136446-3seentour-oderh
 avel-tour
END:VEVENT
END:VCALENDAR
