BEGIN:VCALENDAR
PRODID:-//github.com/rianjs/ical.net//NONSGML ical.net 4.0//EN
VERSION:2.0
BEGIN:VEVENT
DESCRIPTION:Eine Feierabendtour bei der wir ein wenig Sport mit lesen und 
 knabbern verbinden.\nhttps://touren-termine.adfc.de/radveranstaltung/1677
 44-radeln-lesen-und-knabbern
DTEND:20250703T180000Z
DTSTAMP:20260424T230906Z
DTSTART:20250703T150000Z
LOCATION:Schauturm im LGS-Gelände\, Dr.-Kurz-Str.\,\, 92318 Neumarkt in de
 r Oberpfalz
SEQUENCE:0
SUMMARY:Radeln\, lesen und knabbern
UID:e6663eaf-2713-47ac-b2d0-2805adf51002
URL:https://touren-termine.adfc.de/radveranstaltung/167744-radeln-lesen-un
 d-knabbern
END:VEVENT
END:VCALENDAR
