BEGIN:VCALENDAR
PRODID:-//github.com/rianjs/ical.net//NONSGML ical.net 4.0//EN
VERSION:2.0
BEGIN:VEVENT
DESCRIPTION:Eine Rundtour über Gengenbach\, Hammersbach\, Nordrach\, Ramsb
 ach und Oberkirch\nhttps://touren-termine.adfc.de/radveranstaltung/137861
 -kinzigtal-harmersbachtal-renchtal-tour
DTEND:20240915T150000Z
DTSTAMP:20260422T232506Z
DTSTART:20240915T080000Z
LOCATION:Historisches Rathaus\, Hauptstraße 92\, 77652 Offenburg
SEQUENCE:0
SUMMARY:Kinzigtal Harmersbachtal Renchtal Tour
UID:34ea964e-6745-44ec-862d-0e29b887a6bb
URL:https://touren-termine.adfc.de/radveranstaltung/137861-kinzigtal-harme
 rsbachtal-renchtal-tour
END:VEVENT
END:VCALENDAR
