BEGIN:VCALENDAR
PRODID:-//github.com/rianjs/ical.net//NONSGML ical.net 4.0//EN
VERSION:2.0
BEGIN:VEVENT
DESCRIPTION:Von Degerloch über Berkheim nach Denkendorf und weiter über Bo
 nlanden und Musberg nach Vaihingen\nhttps://touren-termine.adfc.de/radver
 anstaltung/117173-von-degerloch-uber-die-fildern
DTEND:20240225T160000Z
DTSTAMP:20260424T144134Z
DTSTART:20240225T083000Z
LOCATION:Jahnstraße 1\, 70597 Stuttgart
SEQUENCE:0
SUMMARY:Von Degerloch über die Fildern
UID:fc434820-e0f6-44a4-ab17-76cc195eed94
URL:https://touren-termine.adfc.de/radveranstaltung/117173-von-degerloch-u
 ber-die-fildern
END:VEVENT
END:VCALENDAR
