BEGIN:VCALENDAR
PRODID:-//github.com/rianjs/ical.net//NONSGML ical.net 4.0//EN
VERSION:2.0
BEGIN:VEVENT
DESCRIPTION:1. Hilfe Infoveranstaltung der ADFC Ortsgruppe Coesfeld / Vorb
 ereitung für den 1. Hilfe Kurs für Radtourenleiter\nhttps://touren-termin
 e.adfc.de/radveranstaltung/150051-1-hilfe-erste-massnahmen-bei-notfallen
DTEND:20250127T193000Z
DTSTAMP:20260419T232640Z
DTSTART:20250127T173000Z
LOCATION:Haugen Kamp 28\, 48653 Coesfeld
SEQUENCE:0
SUMMARY:1. Hilfe / Erste Maßnahmen bei Notfällen
UID:75769de1-33e8-4d02-8a19-c529039a1677
URL:https://touren-termine.adfc.de/radveranstaltung/150051-1-hilfe-erste-m
 assnahmen-bei-notfallen
END:VEVENT
END:VCALENDAR
