BEGIN:VCALENDAR
PRODID:-//github.com/rianjs/ical.net//NONSGML ical.net 4.0//EN
VERSION:2.0
BEGIN:VEVENT
DESCRIPTION:Die Tour  ist eine Fahrt  entlang der rechten und linken Rhein
 schiene. Tagestour mit Einkehr\nhttps://touren-termine.adfc.de/radveranst
 altung/127890-dusseldorf-dormagen
DTEND:20240601T160000Z
DTSTAMP:20260421T120809Z
DTSTART:20240601T073000Z
LOCATION:Wupsi-Kundencenter Freiherr-vom-Stein-Straße 1\, 51379 Leverkusen
SEQUENCE:0
SUMMARY:Düsseldorf - Dormagen
UID:04c6f3a0-6bb4-4a78-934d-1c8805a46816
URL:https://touren-termine.adfc.de/radveranstaltung/127890-dusseldorf-dorm
 agen
END:VEVENT
END:VCALENDAR
