BEGIN:VCALENDAR
PRODID:-//github.com/rianjs/ical.net//NONSGML ical.net 4.0//EN
VERSION:2.0
BEGIN:VEVENT
DESCRIPTION:Dienstags & Donnerstags zwischen 18:00 und 20:00 Uhr kann dort
  jeder\, sein Fahrrad eigenverantwortlich selbst reparieren - wenn nötig 
 unter Anleitung oder Mithilfe unsere Werkstattteams\nhttps://touren-termi
 ne.adfc.de/radveranstaltung/115575-selbsthilfewerkstatt-ist-geoffnet
DTEND:20240604T180000Z
DTSTAMP:20260424T151013Z
DTSTART:20240604T160000Z
LOCATION:ADFC-Selbsthilfewerkstatt\, Weinweg 2\, 93049 Regensburg
SEQUENCE:0
SUMMARY:Selbsthilfewerkstatt ist geöffnet
UID:c9e83b01-f8b9-4287-8e38-f03f4900c09d
URL:https://touren-termine.adfc.de/radveranstaltung/115575-selbsthilfewerk
 statt-ist-geoffnet
END:VEVENT
END:VCALENDAR
