BEGIN:VCALENDAR
PRODID:-//github.com/rianjs/ical.net//NONSGML ical.net 4.0//EN
VERSION:2.0
BEGIN:VEVENT
DESCRIPTION:Von Feuerbach nach Gerlingen\, zur Schillerhöhe\, weiter bis a
 n den Stadtrand von Sindelfingen und durch den Rotwildpark nach Feuerbach
  zurück\nhttps://touren-termine.adfc.de/radveranstaltung/112707-eine-rund
 e-im-sudwesten-von-feuerbach
DTEND:20240127T150000Z
DTSTAMP:20260424T144538Z
DTSTART:20240127T090000Z
LOCATION:Wiener Platz\, 70469 Stuttgart
SEQUENCE:0
SUMMARY:Eine Runde im Südwesten von Feuerbach
UID:a90697b6-b0aa-417f-9306-d5a4b37ef656
URL:https://touren-termine.adfc.de/radveranstaltung/112707-eine-runde-im-s
 udwesten-von-feuerbach
END:VEVENT
END:VCALENDAR
