BEGIN:VCALENDAR
PRODID:-//github.com/rianjs/ical.net//NONSGML ical.net 4.0//EN
VERSION:2.0
BEGIN:VEVENT
DESCRIPTION:Rauf aufs Rad für eine Spritztour in die Umgebung von Gauting!
 \nWöchentlich wechselnd naturkundliche Touren und Cappuccino-Touren.\nHeu
 te: Zum Eis essen nach Gilching\nhttps://touren-termine.adfc.de/radverans
 taltung/107885-wochentliche-nachmittagstour-in-gauting
DTEND:20231012T150000Z
DTSTAMP:20260425T150733Z
DTSTART:20231012T120000Z
LOCATION:Rathaus\, Bahnhofstraße 7\, 82131 Gauting
SEQUENCE:0
SUMMARY:Wöchentliche Nachmittagstour in Gauting
UID:90c8d3fb-30d6-4669-ad6f-b0f84a2a99ed
URL:https://touren-termine.adfc.de/radveranstaltung/107885-wochentliche-na
 chmittagstour-in-gauting
END:VEVENT
END:VCALENDAR
