BEGIN:VCALENDAR
PRODID:-//github.com/rianjs/ical.net//NONSGML ical.net 4.0//EN
VERSION:2.0
BEGIN:VEVENT
DESCRIPTION:Wir radeln von Altdöbern auf guten Radwegen entlang eines reku
 ltivierten Tagebaus - jetzt ein toller See - zum Gräbendorfer See und übe
 r Vetschau und Raddusch durch den Spreewald zum Bhf. Lübbenau.\nhttps://t
 ouren-termine.adfc.de/radveranstaltung/169813-faszination-renaturierte-ta
 gebaue-und-spreewald
DTEND:20250802T180000Z
DTSTAMP:20260424T231840Z
DTSTART:20250802T063000Z
LOCATION:Bhf. Berlin Zoologischer Garten\, Gleis 2\, 10623 Berlin
SEQUENCE:0
SUMMARY:Faszination: Renaturierte Tagebaue und Spreewald
UID:b61f406a-5a2d-4284-bf0a-a9550ae1055b
URL:https://touren-termine.adfc.de/radveranstaltung/169813-faszination-ren
 aturierte-tagebaue-und-spreewald
END:VEVENT
END:VCALENDAR
