BEGIN:VCALENDAR
PRODID:-//github.com/rianjs/ical.net//NONSGML ical.net 4.0//EN
VERSION:2.0
BEGIN:VEVENT
DESCRIPTION:Das Ziel der Tour wird zu Beginn bekanngegeben. Anschließend G
 elegenheit zur gemeinsamen Einkehr.\nhttps://touren-termine.adfc.de/radve
 ranstaltung/89713-feierabendtour
DTEND:20230602T180000Z
DTSTAMP:20260421T101253Z
DTSTART:20230602T160000Z
LOCATION: Rheidt\, kath. Kirche\, 53859 Niederkassel
SEQUENCE:0
SUMMARY:Feierabendtour
UID:dd1d4b67-7758-4c22-bf7c-d66a7f7e828f
URL:https://touren-termine.adfc.de/radveranstaltung/89713-feierabendtour
END:VEVENT
END:VCALENDAR
