BEGIN:VCALENDAR
PRODID:-//github.com/rianjs/ical.net//NONSGML ical.net 4.0//EN
VERSION:2.0
BEGIN:VEVENT
DESCRIPTION:Rauf aufs Rad für eine Spritztour in die Umgebung von Gauting!
 \nWöchentlich wechselnd naturkundliche Touren und Cappuccino-Touren.\nhtt
 ps://touren-termine.adfc.de/radveranstaltung/120569-wochentliche-nachmitt
 agstour-in-gauting
DTEND:20240716T150000Z
DTSTAMP:20260425T150331Z
DTSTART:20240716T120000Z
LOCATION:Rathaus\, Bahnhofstraße 7\, 82131 Gauting
SEQUENCE:0
SUMMARY:Wöchentliche Nachmittagstour in Gauting
UID:1b04ea76-0705-4c48-b000-0acf2ed3d404
URL:https://touren-termine.adfc.de/radveranstaltung/120569-wochentliche-na
 chmittagstour-in-gauting
END:VEVENT
END:VCALENDAR
