BEGIN:VCALENDAR
PRODID:-//github.com/rianjs/ical.net//NONSGML ical.net 4.0//EN
VERSION:2.0
BEGIN:VEVENT
DESCRIPTION:Kleine Feierabendtour ins Blaue mit anschließendem Radelstammt
 isch\nhttps://touren-termine.adfc.de/radveranstaltung/130986-kennlernfeie
 rabendtour
DTEND:20240528T170000Z
DTSTAMP:20260423T030747Z
DTSTART:20240528T160000Z
LOCATION:Bahnhofstraße 1\, Bahnhofsvorplatz\, 57319 Bad Berleburg
SEQUENCE:0
SUMMARY:Kennlern-Feierabendtour
UID:d9fb441a-0844-45d7-ab17-f586ad9830f0
URL:https://touren-termine.adfc.de/radveranstaltung/130986-kennlernfeierab
 endtour
END:VEVENT
END:VCALENDAR
