BEGIN:VCALENDAR
PRODID:-//github.com/rianjs/ical.net//NONSGML ical.net 4.0//EN
VERSION:2.0
BEGIN:VEVENT
DESCRIPTION:Niemand ist perfekt\, das Radwegesystem in Cuxhaven schon gar 
 nicht!\nWir unterhalten uns über alle Dinge rund ums Fahrrad und nehmen W
 ünsche und Anregungen an.\nhttps://touren-termine.adfc.de/radveranstaltun
 g/142272-kaffeestunde
DTEND:20251020T150000Z
DTSTAMP:20260421T021750Z
DTSTART:20251020T130000Z
LOCATION:Bürgerbahnhof\, Am Bahnhof 1\, 27472 Cuxhaven
SEQUENCE:0
SUMMARY:Kaffeestunde
UID:fb8c489b-6d24-45a4-b3ff-ad5d475e8ff0
URL:https://touren-termine.adfc.de/radveranstaltung/142272-kaffeestunde
END:VEVENT
END:VCALENDAR
