BEGIN:VCALENDAR
PRODID:-//github.com/rianjs/ical.net//NONSGML ical.net 4.0//EN
VERSION:2.0
BEGIN:VEVENT
DESCRIPTION:Silvestertour mit Glühwein und Leckereien.\nhttps://touren-ter
 mine.adfc.de/radveranstaltung/128538-silvestertour
DTEND:20241231T130000Z
DTSTAMP:20260421T221337Z
DTSTART:20241231T090000Z
LOCATION:Herzogin-Eleonore-Allee / Am Teich im Französischen Garten\, 2922
 1 Celle
SEQUENCE:0
SUMMARY:Silvestertour
UID:d092cfdf-2b73-4030-976f-a25526bec0be
URL:https://touren-termine.adfc.de/radveranstaltung/128538-silvestertour
END:VEVENT
END:VCALENDAR
