BEGIN:VCALENDAR
PRODID:-//github.com/rianjs/ical.net//NONSGML ical.net 4.0//EN
VERSION:2.0
BEGIN:VEVENT
DESCRIPTION:Unsere Geschäftsstelle ist für alle Anliegen und offenen Frage
 n geöffnet.\nhttps://touren-termine.adfc.de/radveranstaltung/147975-offnu
 ngszeit-unserer-geschaftsstelle
DTEND:20250627T160000Z
DTSTAMP:20260421T121301Z
DTSTART:20250627T140000Z
LOCATION:Essen (Innenstadt)\, ADFC Essen Geschäftsstelle\, Rottstraße 5\, 
 45127 Essen
SEQUENCE:0
SUMMARY:Öffnungszeit unserer Geschäftsstelle
UID:87589ee7-37d4-46c5-b7cc-c1f6d014af63
URL:https://touren-termine.adfc.de/radveranstaltung/147975-offnungszeit-un
 serer-geschaftsstelle
END:VEVENT
END:VCALENDAR
