BEGIN:VCALENDAR
PRODID:-//github.com/rianjs/ical.net//NONSGML ical.net 4.0//EN
VERSION:2.0
BEGIN:VEVENT
DESCRIPTION:ca. 70 km\, 16-18 km/h\, Start: Pavillion Schmölderpark\, 20.0
 7.2024\, 09:30 Uhr. Ab Schmölderpark über Skyview Rheinbraun nach Alt-Kas
 ter und über Grevenbroich zurück. Mit Einkehrmöglichkeiten.\nhttps://tour
 en-termine.adfc.de/radveranstaltung/118248-rheydt-altkaster-grevenbroich-
 rheydt
DTEND:20240720T140000Z
DTSTAMP:20260421T125156Z
DTSTART:20240720T073000Z
LOCATION:Schmölderstraße\, 41239 Mönchengladbach
SEQUENCE:0
SUMMARY:Rheydt - Alt-Kaster - Grevenbroich - Rheydt
UID:debbe605-5cac-4d1a-8cfb-80b4511a4a5f
URL:https://touren-termine.adfc.de/radveranstaltung/118248-rheydt-altkaste
 r-grevenbroich-rheydt
END:VEVENT
END:VCALENDAR
