BEGIN:VCALENDAR
PRODID:-//github.com/rianjs/ical.net//NONSGML ical.net 4.0//EN
VERSION:2.0
BEGIN:VEVENT
DESCRIPTION:Eine schöne Tour nach Kastl durch gepflegte Dörfer mit einige 
 Auf- und Abfahrten und gemütliches Beisammensein ist angesagt. Zwecks Pla
 tzreservierung bitte ich um Voranmeldung.\nhttps://touren-termine.adfc.de
 /radveranstaltung/190981-uber-brunnthal-nach-kastl-radeln
DTEND:20260628T150000Z
DTSTAMP:20260425T020741Z
DTSTART:20260628T070000Z
LOCATION:Schauturm im LGS-Gelände\, Dr.-Kurz-Str.\,\, 92318 Neumarkt in de
 r Oberpfalz
SEQUENCE:0
SUMMARY:Über Brünnthal nach Kastl radeln
UID:4917c607-a286-4a48-97cc-014841a93b86
URL:https://touren-termine.adfc.de/radveranstaltung/190981-uber-brunnthal-
 nach-kastl-radeln
END:VEVENT
END:VCALENDAR
