BEGIN:VCALENDAR
PRODID:-//github.com/rianjs/ical.net//NONSGML ical.net 4.0//EN
VERSION:2.0
BEGIN:VEVENT
DESCRIPTION:ADFC-Fahrradcodierung in der Geschäftsstelle\nhttps://touren-t
 ermine.adfc.de/radveranstaltung/146019-fahrradcodierung-adfc-leverkusen
DTEND:20251215T130000Z
DTSTAMP:20260419T160042Z
DTSTART:20251215T100000Z
LOCATION:ADFC-Geschäftsstelle\, Freiherr-vom-Stein-Straße 5a\, 51379 Lever
 kusen
SEQUENCE:0
SUMMARY:Fahrradcodierung ADFC Leverkusen
UID:8cb41e5e-0333-47d6-8440-466333791e89
URL:https://touren-termine.adfc.de/radveranstaltung/146019-fahrradcodierun
 g-adfc-leverkusen
END:VEVENT
END:VCALENDAR
