BEGIN:VCALENDAR
PRODID:-//github.com/rianjs/ical.net//NONSGML ical.net 4.0//EN
VERSION:2.0
BEGIN:VEVENT
DESCRIPTION:Rundtour von Oranienburg über das Briesetal nach Stolzenhagen\
 nhttps://touren-termine.adfc.de/radveranstaltung/172471-radtour-in-den-ba
 rnim
DTEND:20250928T140000Z
DTSTAMP:20260425T232330Z
DTSTART:20250928T080000Z
LOCATION:Bahnhof\, 16515 Oranienburg
SEQUENCE:0
SUMMARY:Radtour in den Barnim
UID:506549cd-2944-414a-b093-791f22563b7d
URL:https://touren-termine.adfc.de/radveranstaltung/172471-radtour-in-den-
 barnim
END:VEVENT
END:VCALENDAR
