BEGIN:VCALENDAR
PRODID:-//github.com/rianjs/ical.net//NONSGML ical.net 4.0//EN
VERSION:2.0
BEGIN:VEVENT
DESCRIPTION:Mitgliederversammlung des ADFC Kreisverbandes Kempten-Oberallg
 äu mit Wahl der/des Kreisvorsitzenden sowie des Kreisvorstandes\nhttps://
 touren-termine.adfc.de/radveranstaltung/117421-mitgliederversammlung
DTEND:20240118T213000Z
DTSTAMP:20260424T150043Z
DTSTART:20240118T173000Z
LOCATION:DAV Alpinzentrum swoboda alpin\, Aybühlweg 69\, 87439 Kempten (Al
 lgäu)
SEQUENCE:0
SUMMARY:Mitgliederversammlung
UID:6a63d342-664a-4c47-8fd0-df8e511c4827
URL:https://touren-termine.adfc.de/radveranstaltung/117421-mitgliederversa
 mmlung
END:VEVENT
END:VCALENDAR
