BEGIN:VCALENDAR
PRODID:-//github.com/rianjs/ical.net//NONSGML ical.net 4.0//EN
VERSION:2.0
BEGIN:VEVENT
DESCRIPTION:Das ADFC Aktiventreffen bietet die Möglichkeit zu diskutieren\
 , Ideen auszutauschen und aktiv zu sein. Im Dezember planen wir gemeinsam
  Essen zu gehen und bitten um Anmeldung.\nhttps://touren-termine.adfc.de/
 radveranstaltung/137445-adfc-aktiventreffen-
DTEND:20241211T200000Z
DTSTAMP:20260424T161459Z
DTSTART:20241211T180000Z
LOCATION:Gildehaus\, Veerßer Straße 18\, 29525 Uelzen
SEQUENCE:0
SUMMARY:ADFC Aktiventreffen 🎅🍽
UID:9b697f67-6d24-4996-bbbd-f9524ce89645
URL:https://touren-termine.adfc.de/radveranstaltung/137445-adfc-aktiventre
 ffen-
END:VEVENT
END:VCALENDAR
