BEGIN:VCALENDAR
PRODID:-//github.com/rianjs/ical.net//NONSGML ical.net 4.0//EN
VERSION:2.0
BEGIN:VEVENT
DESCRIPTION:Der Mountainbikeklassiker im Naturpark Stromberg-Heuchelberg: 
 Auf wenig befahrenen Trails geht es über die Höhen des Strombergs.\nhttps
 ://touren-termine.adfc.de/radveranstaltung/148327-der-stromberg-rennweg-i
 m-wandel-der-jahreszeiten
DTEND:20251019T140000Z
DTSTAMP:20260425T200210Z
DTSTART:20251019T070000Z
LOCATION:Kuhriosum (Kronenplatz)\, 74321 Bietigheim-Bissingen
SEQUENCE:0
SUMMARY:Der Stromberg Rennweg im Wandel der Jahreszeiten
UID:969fab89-93b2-4e22-a9e9-107926c0906b
URL:https://touren-termine.adfc.de/radveranstaltung/148327-der-stromberg-r
 ennweg-im-wandel-der-jahreszeiten
END:VEVENT
END:VCALENDAR
