BEGIN:VCALENDAR
PRODID:-//github.com/rianjs/ical.net//NONSGML ical.net 4.0//EN
VERSION:2.0
BEGIN:VEVENT
DESCRIPTION:Unsere Geschäftsstelle ist für alle Anliegen und offenen Frage
 n geöffnet.\nhttps://touren-termine.adfc.de/radveranstaltung/147875-offnu
 ngszeit-unserer-geschaftsstelle
DTEND:20250410T160000Z
DTSTAMP:20260421T121006Z
DTSTART:20250410T140000Z
LOCATION:Essen (Innenstadt)\, ADFC Essen Geschäftsstelle\, Rottstraße 5\, 
 45127 Essen
SEQUENCE:0
SUMMARY:Öffnungszeit unserer Geschäftsstelle
UID:6835664e-adc4-4a02-b716-1a74cd1249d8
URL:https://touren-termine.adfc.de/radveranstaltung/147875-offnungszeit-un
 serer-geschaftsstelle
END:VEVENT
END:VCALENDAR
