BEGIN:VCALENDAR
PRODID:-//github.com/rianjs/ical.net//NONSGML ical.net 4.0//EN
VERSION:2.0
BEGIN:VEVENT
DESCRIPTION:ADFC-Fahrradcodierung in der Geschäftsstelle\nhttps://touren-t
 ermine.adfc.de/radveranstaltung/146013-fahrradcodierung-adfc-leverkusen
DTEND:20251103T130000Z
DTSTAMP:20260419T155717Z
DTSTART:20251103T100000Z
LOCATION:ADFC-Geschäftsstelle\, Freiherr-vom-Stein-Straße 5a\, 51379 Lever
 kusen
SEQUENCE:0
SUMMARY:Fahrradcodierung ADFC Leverkusen
UID:a0c8d723-43c9-488b-906f-cac411c3d9ed
URL:https://touren-termine.adfc.de/radveranstaltung/146013-fahrradcodierun
 g-adfc-leverkusen
END:VEVENT
END:VCALENDAR
