BEGIN:VCALENDAR
PRODID:-//github.com/rianjs/ical.net//NONSGML ical.net 4.0//EN
VERSION:2.0
BEGIN:VEVENT
DESCRIPTION:Fahrraddemo in Schöneberg am 24. November 2023: Für gute\, sic
 here Radwege!\nhttps://touren-termine.adfc.de/radveranstaltung/110797-fah
 rraddemo-fur-gute-sichere-radwege
DTEND:20231124T180000Z
DTSTAMP:20260421T233206Z
DTSTART:20231124T160000Z
LOCATION:John-F.-Kennedy-Platz 1\, 10825 Berlin
SEQUENCE:0
SUMMARY:Fahrraddemo für gute\, sichere Radwege!
UID:8fc1b197-deb5-4d7e-b39e-1a2997f98ad7
URL:https://touren-termine.adfc.de/radveranstaltung/110797-fahrraddemo-fur
 -gute-sichere-radwege
END:VEVENT
END:VCALENDAR
