BEGIN:VCALENDAR
PRODID:-//github.com/rianjs/ical.net//NONSGML ical.net 4.0//EN
VERSION:2.0
BEGIN:VEVENT
DESCRIPTION:Bei einsetzender Nacht machen wir uns auf den Weg und fahren i
 n Richtung Altenwalde\, bei Berensch beobachten wir den Sonnenuntergang ü
 ber dem Watt.\nÜber Sahlenburg und Westerwisch fahren wir zurück.\nhttps:
 //touren-termine.adfc.de/radveranstaltung/142215-dammerungstour
DTEND:20250621T210000Z
DTSTAMP:20260421T073838Z
DTSTART:20250621T173000Z
LOCATION:Bürgerbahnhof\, Am Bahnhof 1\, 27472 Cuxhaven
SEQUENCE:0
SUMMARY:Dämmerungstour
UID:e8cff001-2d78-4560-ad32-05110f238093
URL:https://touren-termine.adfc.de/radveranstaltung/142215-dammerungstour
END:VEVENT
END:VCALENDAR
