BEGIN:VCALENDAR
PRODID:-//github.com/rianjs/ical.net//NONSGML ical.net 4.0//EN
VERSION:2.0
BEGIN:VEVENT
DESCRIPTION:Mehr Sicherheit für den Radverkehr durch StVO konforme Seitena
 bstände beim Überholen durch Kraftfahrzeuge\nhttps://touren-termine.adfc.
 de/radveranstaltung/117245-projektgruppe-openbikesensor
DTEND:20240909T180000Z
DTSTAMP:20260420T230947Z
DTSTART:20240909T163000Z
LOCATION:Koppel 34-36\, 20099 Hamburg
SEQUENCE:0
SUMMARY:Projektgruppe OpenBikeSensor
UID:d5c9ced5-6898-4d51-8267-633b1d0adfcb
URL:https://touren-termine.adfc.de/radveranstaltung/117245-projektgruppe-o
 penbikesensor
END:VEVENT
END:VCALENDAR
