BEGIN:VCALENDAR
PRODID:-//github.com/rianjs/ical.net//NONSGML ical.net 4.0//EN
VERSION:2.0
BEGIN:VEVENT
DESCRIPTION:Eine sehr schöne Reise von Neuruppin zurück nach Berlin. Mit d
 em Kuchengarten in Zietenhorst und Schlosspark Schwante mit dem Mühlentei
 ch.\nhttps://touren-termine.adfc.de/radveranstaltung/103003-neuruppin-zie
 thenhorst-schloss-schwante
DTEND:20230723T160000Z
DTSTAMP:20260425T134408Z
DTSTART:20230723T074500Z
LOCATION:Bahnhof Hennigsdorf\, Gleis 1\, RE 6 nach Wittenberge\, 16761 Hen
 nigsdorf
SEQUENCE:0
SUMMARY:Neuruppin\, Ziethenhorst\, Schloss Schwante
UID:3990eed5-3e33-42e2-af3a-5a98a435b329
URL:https://touren-termine.adfc.de/radveranstaltung/103003-neuruppin-zieth
 enhorst-schloss-schwante
END:VEVENT
END:VCALENDAR
