BEGIN:VCALENDAR
PRODID:-//github.com/rianjs/ical.net//NONSGML ical.net 4.0//EN
VERSION:2.0
BEGIN:VEVENT
DESCRIPTION:Wir brauchen endlich eine Ost-West-Achse für sicheres und ents
 panntes Fahrradfahren! Das Netzwerk Fahrradfreundliches Tempelhof-Schöneb
 erg ruft zu einer Demo auf\, wir sind dabei!\nhttps://touren-termine.adfc
 .de/radveranstaltung/136105-demo-07072024-ab-16-uhr-zur-monumentenbrucke
DTEND:20240707T150000Z
DTSTAMP:20260424T020735Z
DTSTART:20240707T140000Z
LOCATION:Langenscheidtstraße/Kleistpark\, 10827 Berlin
SEQUENCE:0
SUMMARY:Demo 07.07.2024 ab 16 Uhr zur Monumentenbrücke
UID:0cbcffce-b54c-461d-bf11-e42a52b8f39b
URL:https://touren-termine.adfc.de/radveranstaltung/136105-demo-07072024-a
 b-16-uhr-zur-monumentenbrucke
END:VEVENT
END:VCALENDAR
