BEGIN:VCALENDAR
PRODID:-//github.com/rianjs/ical.net//NONSGML ical.net 4.0//EN
VERSION:2.0
BEGIN:VEVENT
DESCRIPTION:Ihr könnt bei uns für den Fahrrad-Entscheid Köln unterschreibe
 n und vergünstigt Mitglied im ADFC werden. Für Eure Pänz steht unser Fahr
 rad-Parcours bereit.\nhttps://touren-termine.adfc.de/radveranstaltung/134
 239-adfc-beim-strassenland-2024
DTEND:20240602T170000Z
DTSTAMP:20260423T143732Z
DTSTART:20240602T080000Z
LOCATION:Nord-Süd-Fahrt\, gegenüber der Oper\, 50667 Köln
SEQUENCE:0
SUMMARY:ADFC beim Strassenland 2024
UID:5a0c70f5-3c2f-40c8-a537-d9c6cbb8e765
URL:https://touren-termine.adfc.de/radveranstaltung/134239-adfc-beim-stras
 senland-2024
END:VEVENT
END:VCALENDAR
