BEGIN:VCALENDAR
PRODID:-//github.com/rianjs/ical.net//NONSGML ical.net 4.0//EN
VERSION:2.0
BEGIN:VEVENT
DESCRIPTION:Von Degerloch nach Böblingen\, um die Stadt herum und nach Vai
 hingen zurück\nhttps://touren-termine.adfc.de/radveranstaltung/106865-von
 -degerloch-zum-boblinger-radelrund
DTEND:20231029T160000Z
DTSTAMP:20260424T144542Z
DTSTART:20231029T083000Z
LOCATION:Jahnstraße 1\, 70597 Stuttgart
SEQUENCE:0
SUMMARY:Von Degerloch zum Böblinger Radelrund
UID:76d66603-8c6b-46fa-87d4-eae57898c8ea
URL:https://touren-termine.adfc.de/radveranstaltung/106865-von-degerloch-z
 um-boblinger-radelrund
END:VEVENT
END:VCALENDAR
