BEGIN:VCALENDAR
PRODID:-//github.com/rianjs/ical.net//NONSGML ical.net 4.0//EN
VERSION:2.0
BEGIN:VEVENT
DESCRIPTION:Monatlicher Stammtisch von interessierten Radlerinnen und Radl
 ern. Jeweils am letzten Dienstag im \nMonat\nhttps://touren-termine.adfc.
 de/radveranstaltung/143755-radlertreff-des-adfc-hamburg
DTEND:20251028T220000Z
DTSTAMP:20260421T030333Z
DTSTART:20251028T180000Z
LOCATION:Gasthaus Quartier 21\, Fuhlsbüttler Straße 405\, 22309 Hamburg
SEQUENCE:0
SUMMARY:Radlertreff des ADFC Hamburg
UID:d83ddeee-5dbd-4f15-b2d9-e8b5af9e0d84
URL:https://touren-termine.adfc.de/radveranstaltung/143755-radlertreff-des
 -adfc-hamburg
END:VEVENT
END:VCALENDAR
