BEGIN:VCALENDAR
PRODID:-//github.com/rianjs/ical.net//NONSGML ical.net 4.0//EN
VERSION:2.0
BEGIN:VEVENT
DESCRIPTION:Verschiedene Geschwindigkeitsgruppen: Pättkes-Tour (15-18 km/h
 )\, Flotte Tour (18-21 km/h)\, Schnelle Tour (21-25 km/h).\nZiel und Rout
 e werden beim Start bekannt gegeben.\nhttps://touren-termine.adfc.de/radv
 eranstaltung/112392-feierabendtour-rund-um-coesfeld-april
DTEND:20240422T180000Z
DTSTAMP:20260419T232247Z
DTSTART:20240422T160000Z
LOCATION:Marktplatz\, 48653 Coesfeld
SEQUENCE:0
SUMMARY:Feierabendtour rund um Coesfeld: April
UID:aa48e04a-9542-4da9-9ae1-d86fee7cf6f2
URL:https://touren-termine.adfc.de/radveranstaltung/112392-feierabendtour-
 rund-um-coesfeld-april
END:VEVENT
END:VCALENDAR
