BEGIN:VCALENDAR
PRODID:-//github.com/rianjs/ical.net//NONSGML ical.net 4.0//EN
VERSION:2.0
BEGIN:VEVENT
DESCRIPTION:Der Lahn-Dill-Kreis führt im Rahmen des Stadtradles eine Stern
 fahrt zum Dutenhofer See durch. Der ADFC Dill e.V unterstützt die Einladu
 ng. Die Tour endet am Dudenhofer See!\nhttps://touren-termine.adfc.de/rad
 veranstaltung/198601-sternfahrt-nach-wetzlar-dutenhofen
DTEND:20260509T130000Z
DTSTAMP:20260424T195648Z
DTSTART:20260509T070000Z
LOCATION:Marktplatz\, 35708 Haiger
SEQUENCE:0
SUMMARY:Sternfahrt nach Wetzlar - Dutenhofen
UID:1670d2b0-023c-4f5f-94af-baa6e65c7612
URL:https://touren-termine.adfc.de/radveranstaltung/198601-sternfahrt-nach
 -wetzlar-dutenhofen
END:VEVENT
END:VCALENDAR
