BEGIN:VCALENDAR
PRODID:-//github.com/rianjs/ical.net//NONSGML ical.net 4.0//EN
VERSION:2.0
BEGIN:VEVENT
DESCRIPTION:Unsere Geschäftsstelle ist für alle Anliegen und offenen Frage
 n geöffnet.\nhttps://touren-termine.adfc.de/radveranstaltung/147951-offnu
 ngszeit-unserer-geschaftsstelle
DTEND:20250117T170000Z
DTSTAMP:20260421T120758Z
DTSTART:20250117T150000Z
LOCATION:Essen (Innenstadt)\, ADFC Essen Geschäftsstelle\, Rottstraße 5\, 
 45127 Essen
SEQUENCE:0
SUMMARY:Öffnungszeit unserer Geschäftsstelle
UID:98be1b5a-440b-4df1-8004-e026d4b49544
URL:https://touren-termine.adfc.de/radveranstaltung/147951-offnungszeit-un
 serer-geschaftsstelle
END:VEVENT
END:VCALENDAR
