BEGIN:VCALENDAR
PRODID:-//github.com/rianjs/ical.net//NONSGML ical.net 4.0//EN
VERSION:2.0
BEGIN:VEVENT
DESCRIPTION:VHS Kaufbeuren - Komoot Grundlagen Einführung. Mit Komoot lass
 en sich Radtouren einfach und komfortabel planen und danach navigieren. A
 nmeldung nur bei VHS!\nhttps://touren-termine.adfc.de/radveranstaltung/17
 4130-vhs-kaufbeuren-komoot-grundlagen-einfuhrung
DTEND:20260129T200000Z
DTSTAMP:20260419T155838Z
DTSTART:20260129T170000Z
LOCATION:Spitalhof 5\, Volkshochschule\, 87600 Kaufbeuren
SEQUENCE:0
SUMMARY:VHS Kaufbeuren - Komoot Grundlagen Einführung
UID:fd8baa1d-a2ca-45d7-9be9-b164668ca522
URL:https://touren-termine.adfc.de/radveranstaltung/174130-vhs-kaufbeuren-
 komoot-grundlagen-einfuhrung
END:VEVENT
END:VCALENDAR
