BEGIN:VCALENDAR
PRODID:-//github.com/rianjs/ical.net//NONSGML ical.net 4.0//EN
VERSION:2.0
BEGIN:VEVENT
DESCRIPTION:Zum Sonnenuntergang auf den Hohen Wald. Dann Wechsel zur Marti
 nshardt. Dort machen wir es uns auf Isomatten und mit Schlafsäcken gemütl
 ich\, um die Sternschnuppen zu erwarten. Anmeldung erforderlich.\nhttps:/
 /touren-termine.adfc.de/radveranstaltung/149735-pedelecsternschnuppentour
 -kreuztal
DTEND;VALUE=DATE:20250817
DTSTAMP:20260422T234416Z
DTSTART:20250816T173000Z
LOCATION:Marburgerstraße\, Roter Platz\, 57223 Kreuztal
SEQUENCE:0
SUMMARY:Pedelec-Sternschnuppentour Kreuztal
UID:c0025069-2f0f-4132-9ee4-e121f2185ad7
URL:https://touren-termine.adfc.de/radveranstaltung/149735-pedelecsternsch
 nuppentour-kreuztal
END:VEVENT
END:VCALENDAR
