BEGIN:VCALENDAR
PRODID:-//github.com/rianjs/ical.net//NONSGML ical.net 4.0//EN
VERSION:2.0
BEGIN:VEVENT
DESCRIPTION:Am Sonntag\, 7. April 2023 laden die Kaufleute in der Hammer I
 nnenstadt zum  Hammer Mobilitätstag mit einem abwechslungsreichen Program
 m ein. Außerdem ist in der Innenstadt verkaufsoffen.\nhttps://touren-term
 ine.adfc.de/radveranstaltung/129058-mobilitatstag
DTEND:20240407T160000Z
DTSTAMP:20260421T235542Z
DTSTART:20240407T110000Z
LOCATION:Platz der Deutschen Einheit\, 59065 Hamm
SEQUENCE:0
SUMMARY:Mobilitätstag
UID:59689cc8-3a60-4aa2-8f4e-b44c65c6f163
URL:https://touren-termine.adfc.de/radveranstaltung/129058-mobilitatstag
END:VEVENT
END:VCALENDAR
