BEGIN:VCALENDAR
PRODID:-//github.com/rianjs/ical.net//NONSGML ical.net 4.0//EN
VERSION:2.0
BEGIN:VEVENT
DESCRIPTION:Mit einem großen Umweg nach Sohl: Über Elberndorfer Tal\, Scha
 meder\, Feudingen ins Banfetal und dann nach Sohl. Kleine Straßen und Wal
 dwege. Abfahrten teilweise auf großen Straßen. Anmeldung bis 12.09.\nhttp
 s://touren-termine.adfc.de/radveranstaltung/149786-4-sternfahrt-siwi-sohl
 -von-kreuztal-pedelec
DTEND:20250914T163000Z
DTSTAMP:20260422T234555Z
DTSTART:20250914T080000Z
LOCATION:Marburgerstraße\, Roter Platz\, 57223 Kreuztal
SEQUENCE:0
SUMMARY:4. Sternfahrt SiWi Sohl von Kreuztal (Pedelec)
UID:568fcf94-232f-4669-bc62-e94d80153e4a
URL:https://touren-termine.adfc.de/radveranstaltung/149786-4-sternfahrt-si
 wi-sohl-von-kreuztal-pedelec
END:VEVENT
END:VCALENDAR
