BEGIN:VCALENDAR
PRODID:-//github.com/rianjs/ical.net//NONSGML ical.net 4.0//EN
VERSION:2.0
BEGIN:VEVENT
DESCRIPTION:Unsere Geschäftsstelle ist für alle Anliegen und offenen Frage
 n geöffnet.\nhttps://touren-termine.adfc.de/radveranstaltung/183814-offnu
 ngszeit-unserer-geschaftsstelle
DTEND:20260507T160000Z
DTSTAMP:20260421T115754Z
DTSTART:20260507T140000Z
LOCATION:Essen (Innenstadt)\, ADFC Essen Geschäftsstelle\, Rottstraße 5\, 
 45127 Essen
SEQUENCE:0
SUMMARY:Öffnungszeit unserer Geschäftsstelle
UID:ee8aad95-b794-4566-b5cf-7276c4dad95e
URL:https://touren-termine.adfc.de/radveranstaltung/183814-offnungszeit-un
 serer-geschaftsstelle
END:VEVENT
END:VCALENDAR
