BEGIN:VCALENDAR
PRODID:-//github.com/rianjs/ical.net//NONSGML ical.net 4.0//EN
VERSION:2.0
BEGIN:VEVENT
DESCRIPTION:Knapp 25 km\, um 15 km/h\, Start: Rathaus Abtei\, Rathausplatz
  1\, MG. Eröffnung des STADTRADELNS 2026 durch Mönchengladbachs Oberbürge
 rmeister Felix Heinrichs.\nhttps://touren-termine.adfc.de/radveranstaltun
 g/188733-adfcauftakttour-stadtradeln-2026
DTEND:20260502T130000Z
DTSTAMP:20260424T200540Z
DTSTART:20260502T090000Z
LOCATION:Abteistraße\, 41061 Mönchengladbach
SEQUENCE:0
SUMMARY:ADFC-Auftakttour STADTRADELN 2026
UID:52d220b6-1c79-4397-b7a0-919df990e33e
URL:https://touren-termine.adfc.de/radveranstaltung/188733-adfcauftakttour
 -stadtradeln-2026
END:VEVENT
END:VCALENDAR
