BEGIN:VCALENDAR
PRODID:-//github.com/rianjs/ical.net//NONSGML ical.net 4.0//EN
VERSION:2.0
BEGIN:VEVENT
DESCRIPTION:Wo entspringt die Medem? Eine Radtour durch Otterndorf\, sowie
  die Dörfer Neuenkirchen und Ihlienworth hin zur Medemquelle. \nZurück ge
 ht es entlang am Hadelner Kanal Richtung Elbe.\nhttps://touren-termine.ad
 fc.de/radveranstaltung/154750-an-der-medem
DTEND:20250713T140000Z
DTSTAMP:20260421T052536Z
DTSTART:20250713T090000Z
LOCATION:Am Kirchplatz\, 21762 Otterndorf
SEQUENCE:0
SUMMARY:An der Medem
UID:f1ef6e7f-5bae-44aa-81e9-01868c61d7a4
URL:https://touren-termine.adfc.de/radveranstaltung/154750-an-der-medem
END:VEVENT
END:VCALENDAR
