BEGIN:VCALENDAR
PRODID:-//github.com/rianjs/ical.net//NONSGML ical.net 4.0//EN
VERSION:2.0
BEGIN:VEVENT
DESCRIPTION:Frostpendeln ist eine Initiative\, wie das Stadtradeln\, bei d
 er man Kilometer sammelt und vergleicht. Das Frostpendeln findet im Winte
 r vom 1. November 2024 bis 28. Februar 2025 statt.\nhttps://touren-termin
 e.adfc.de/radveranstaltung/141825-frostpendeln-0111202428022025
DTEND:20250228T225500Z
DTSTAMP:20260422T234415Z
DTSTART:20250227T230000Z
LOCATION:Jakob-Scheiner-Platz und überall in SI-WI und sonstwo\, 57072 Sie
 gen
SEQUENCE:0
SUMMARY:Frostpendeln 01.11.2024-28.02.2025
UID:473c4418-308e-4471-aed7-aa18e9f3cf83
URL:https://touren-termine.adfc.de/radveranstaltung/141825-frostpendeln-01
 11202428022025
END:VEVENT
END:VCALENDAR
